Workbook

Sheet NOVO GRAF+TABLICA
A3: PREGLED OSNOVNIH PODATAKA O STANJU U SUSTAVU MIROVINSKOG OSIGURANJA za kolovoz 2026. (isplata u rujnu 2026.)
A45: * U 2026. godini prosječna netoplaća u RH dostupna je za srpanj 2026.
A47: I. Korisnici mirovina koji su pravo na mirovinu ostvarili prema Zakonu o mirovinskom osiguranju bez međunarodnih ugovora
A48: Vrste mirovina | B48: Broj korisnika | C48: Prosječna netomirovina u eurima (EUR) | D48: Udio u prosječnoj netoplaći za srpanj 2026.
A49: Starosna mirovina | B49: 410335 | C49: 754.88 | D49: =C49/$C$69 -> 0.49018182 | K49: z56
A50: Starosna mirovina za dugogodišnjeg osiguranika | B50: 60779 | C50: 835.4 | D50: =C50/$C$69 -> 0.54246753
A51: Starosna mirovina prevedena iz invalidske | B51: 60695 | C51: 681 | D51: =C51/$C$69 -> 0.44220779
A52: Ukupno starosna mirovina | B52: 531809 | C52: 755.65 | D52: =C52/$C$69 -> 0.49068182
A53: Prijevremena starosna mirovina | B53: 80662 | C53: 633.2 | D53: =C53/$C$69 -> 0.41116883
A54: Prijevremena starosna mirovina bez smanjenja polaznog faktora | B54: 99671 | C54: 778.58 | D54: =C54/$C$69 -> 0.50557143
A55: Prijevremena starosna mirovina zbog stečaja poslodavca | B55: 377 | C55: 672.38 | D55: =C55/$C$69 -> 0.43661039
A56: Sveukupno starosna mirovina | B56: 712519 | C56: 744.95 | D56: =C56/$C$69 -> 0.48373377
A57: Invalidska mirovina | B57: 79931 | C57: 557.09 | D57: =C57/$C$69 -> 0.36174675
A58: Obiteljska mirovina | B58: 150873 | C58: 573.02 | D58: =C58/$C$69 -> 0.37209091
A59: I. UKUPNO ZOMO | B59: 943323 | C59: 701.53 | D59: =C59/$C$69 -> 0.45553896
A60: II. Djelatne vojne osobe - DVO | B60: 16296 | C60: 997.08 | D60: =C60/$C$69 -> 0.64745455
A61: III. Hrvatski branitelji iz Domovinskog rata - ZOHBDR | B61: 72413 | C61: 1513.42 | D61: =C61/$C$69 -> 0.98274026
... A67: Korisnici najniže mirovine kojima je mirovina određena prema ZOMO-u | B67: 284213 | C67: 502.19 | D67: =C67/$C$69 -> 0.3260974
A68: Aktualna vrijednost mirovine (AVM u eurima) i % usklađivanja | B68: 15.64 | C68: 5.4
A69: Prosječna mjesečna isplaćena netoplaća Republike Hrvatske zaposlenih u pravnim osobama za srpanj 2026. u eurima (EUR) (izvor: DZS) | C69: 1540
A70: Od siječnja 2026. na snagu je stupio članak 85. Zakona o mirovinskom osiguranju (NN 96/25).
A71: Od ožujka 2026. u primjeni je članak 83.stavak 9. i članak 169.stavak 9. Zakona o mirovinskom osiguranju (NN 96/25).
A96: Izvor podataka: Bruto bilanca
A97: Iznosi u stupcima 2012.-2022. preračunavaju se iz kune u euro prema fiksnom tečaju konverzije (1 EUR=7,53450 kuna)
A99: Napomena: *U 2021. godini uključeno je jednokratno novčano primanje korisnicima mirovine radi ublažavanja posljedica uzrokovanih epidemijom bolesti COVID-19 u u ukupnom iznosu od 62.308.819 EUR, najvećim dijelom isplaćeno u travnju.
A102: *U 2022. godini uključeni su rashodi za jednokratno novčano primanje korisnicima mirovinskih primanja radi ublažavanja posljedica porasta cijena energenata u ukupnom iznosu od 59.648.802 EUR, najvećim dijelom isplaćeni u lipnju; rashodi za jednokratno novčano primanje korisnicima mirovinskih primanja radi ublažavanja posljedica porasta cijena u ukupnom iznosu od 62.419.295 EUR, najvećim dijelom isplaćeni u listopadu te rashodi za jednokratno novčano primanje korisnicima mirovinskih primanja radi ublažavanja posljedica rasta troškova života u ukupnom iznosu od 61.727.693 EUR,najvećim dijelom isplaćeni u prosincu.
A103: *U 2023. uključeni su rashodi za jednokratno novčano primanje korisnicima mirovinskih primanja radi ublažavanja posljedica rasta troškova života u iznosu od 210.483.302 eura (EUR). *U 2024. uključeni su rashodi za jednokratno novčano primanje korisnicima mirovinskih primanja radi ublažavanja posljedica rasta troškova života u iznosu od 253.433.409 eura (EUR). *U 2025.uključeni su rashodi za jednokratno novčano primanje korisnicima mirovinskih primanja u iznosu od 61.460.999 eura (EUR) i isplata godišnjeg dodatka korisnicima mirovina u iznosu od 271.561.812. eura (EUR).
A105: **Za 2026. posljednji dostupni podatak o ostvarenim rashodima za mirovine i mirovinska primanja (privremeni) je za spanj 2026., dok su planirani rashodi za razdoblje I.-XII.2026. u visini od 10.195.665.863 eura.

Sheet starosna mirovina BMU
B2: KORISNICI STAROSNE MIROVINE KOJI SU PRAVO NA MIROVINU OSTVARILI PREMA ZAKONU O MIROVINSKOM OSIGURANJU - BEZ MEĐUNARODNIH UGOVORA
B5: za kolovoz 2026. (isplata u rujnu 2026.)
B6: godine mirovinskog staža | C6: broj korisnika | D6: prosječni iznos netomirovine | E6: udio u prosječnoj netoplaći za srpanj 2026.
B7: do - 19 | C7: 60410 | D7: 368.95119 | E7: =D7/$D$33 -> 0.23957869
B8: 20 - 24 | C8: 46002 | D8: 451.92 | E8: =D8/$D$33 -> 0.29345455
B9: 25 - 29 | C9: 49629 | D9: 578.15 | E9: =D9/$D$33 -> 0.37542208
B10: 30 | C10: 19176 | D10: 714.33 | E10: =D10/$D$33 -> 0.46385065
B11: 31 | C11: 12405 | D11: 734.55 | E11: =D11/$D$33 -> 0.47698052
B12: 32 | C12: 11549 | D12: 748.33 | E12: =D12/$D$33 -> 0.48592857
B13: 33 | C13: 10339 | D13: 774.18 | E13: =D13/$D$33 -> 0.50271429
B14: 34 | C14: 8477 | D14: 814.61 | E14: =D14/$D$33 -> 0.52896753
B15: 35 | C15: 38244 | D15: 838.33 | E15: =D15/$D$33 -> 0.54437013
B16: 36 | C16: 13559 | D16: 884.24 | E16: =D16/$D$33 -> 0.57418182
B17: 37 | C17: 12405 | D17: 928.36 | E17: =D17/$D$33 -> 0.60283117
B18: 38 | C18: 12532 | D18: 979.52 | E18: =D18/$D$33 -> 0.63605195
B19: 39 | C19: 12566 | D19: 1029.27 | E19: =D19/$D$33 -> 0.66835714
B20: 40 | C20: 25593 | D20: 1024.99 | E20: =D20/$D$33 -> 0.66557792
B21: 41 | C21: 15151 | D21: 1043.56 | E21: =D21/$D$33 -> 0.67763636
... B25: 45 | C25: 9857 | D25: 1075.63 | E25: =D25/$D$33 -> 0.69846104
B26: 46 I VIŠE | C26: 19296 | D26: 1205.89 | E26: =D26/$D$33 -> 0.78304545
B27: UKUPNO | C27: =SUM(C7:C26) -> 410335 | D27: 754.88 | E27: =D27/$D$33 -> 0.49018182
B28: 0 - 34 | C28: 217987 | D28: 541.92 | E28: =D28/$D$33 -> 0.3518961
B29: 35 - 39 | C29: 89306 | D29: 904.49 | E29: =D29/$D$33 -> 0.58733117
B30: 40 I VIŠE | C30: 103042 | D30: 1075.72 | E30: =D30/$D$33 -> 0.69851948
B31: Napomena: u broj korisnika mirovina nisu uključeni korisnici mirovina DVO, ZOHBDR i HVO.
B32: U tablici je prikazan ukupni staž korisnika mirovina, efektivni i beneficirani staž, bez dodanog i pridodanog staža.
B33: Prosječna mjesečna isplaćena netoplaća Republike Hrvatske za srpanj 2026. u eurima (EUR) (izvor: DZS) | D33: 1540
D34: korigirati plaću za ožujak

Sheet starosna za dugo.osig. BMU
B2: KORISNICI STAROSNE MIROVINE ZA DUGOGODIŠNJEG OSIGURANIKA KOJI SU PRAVO NA MIROVINU OSTVARILI PREMA ZAKONU O MIROVINSKOM OSIGURANJU - BEZ MEĐUNARODNIH UGOVORA
B5: ='starosna mirovina BMU'!B5 -> za kolovoz 2026. (isplata u rujnu 2026.)
B6: godine mirovinskog staža | C6: broj korisnika | D6: prosječni iznos netomirovine | E6: ='starosna mirovina BMU'!E6 -> udio u prosječnoj netoplaći za srpanj 2026.
B7: 41 | C7: 31385 | D7: 800.35264 | E7: =D7/$D$16 -> 0.51970951
B8: 42 | C8: 13002 | D8: 835.89 | E8: =D8/$D$16 -> 0.54278571
B9: 43 | C9: 7429 | D9: 873.89 | E9: =D9/$D$16 -> 0.56746104
B10: 44 | C10: 4321 | D10: 906.94 | E10: =D10/$D$16 -> 0.58892208
B11: 45 | C11: 2476 | D11: 930.67 | E11: =D11/$D$16 -> 0.60433117
B12: 46 I VIŠE | C12: 2166 | D12: 956.78 | E12: =D12/$D$16 -> 0.62128571
B13: UKUPNO | C13: =SUM(C7:C12) -> 60779 | D13: 835.4 | E13: =D13/$D$16 -> 0.54246753
B14: Napomena: u broj korisnika mirovina nisu uključeni korisnici mirovina DVO, ZOHBDR i HVO.
B15: U tablici je prikazan ukupni staž korisnika mirovina, efektivni i beneficirani staž, bez dodanog i pridodanog staža.
B16: ='starosna mirovina BMU'!B33:C33 -> Prosječna mjesečna isplaćena netoplaća Republike Hrvatske za srpanj 2026. u eurima (EUR) (izvor: DZS) | D16: ='starosna mirovina BMU'!D33 -> 1540

Sheet starosna prevedena iz inv.BMU
B2: KORISNICI STAROSNE MIROVINE PREVEDENE IZ INVALIDSKE KOJI SU PRAVO NA MIROVINU OSTVARILI PREMA ZAKONU O MIROVINSKOM OSIGURANJU - BEZ MEĐUNARODNIH UGOVORA
B5: ='starosna mirovina BMU'!B5 -> za kolovoz 2026. (isplata u rujnu 2026.)
B6: godine mirovinskog staža | C6: broj korisnika | D6: prosječni iznos netomirovine | E6: ='starosna mirovina BMU'!E6 -> udio u prosječnoj netoplaći za srpanj 2026.
B7: do - 19 | C7: 17167 | D7: 486.14607 | E7: =D7/$D$33 -> 0.31567927
B8: 20 - 24 | C8: 14179 | D8: 660.5 | E8: =D8/$D$33 -> 0.4288961
B9: 25 - 29 | C9: 15508 | D9: 771.48 | E9: =D9/$D$33 -> 0.50096104
B10: 30 | C10: 2826 | D10: 815.74 | E10: =D10/$D$33 -> 0.5297013
B11: 31 | C11: 2265 | D11: 828.56 | E11: =D11/$D$33 -> 0.53802597
B12: 32 | C12: 2033 | D12: 835.76 | E12: =D12/$D$33 -> 0.5427013
B13: 33 | C13: 1667 | D13: 860.56 | E13: =D13/$D$33 -> 0.55880519
B14: 34 | C14: 1283 | D14: 849.75 | E14: =D14/$D$33 -> 0.55178571
B15: 35 | C15: 1074 | D15: 841.1 | E15: =D15/$D$33 -> 0.54616883
B16: 36 | C16: 823 | D16: 863.72 | E16: =D16/$D$33 -> 0.56085714
B17: 37 | C17: 604 | D17: 848.8 | E17: =D17/$D$33 -> 0.55116883
B18: 38 | C18: 475 | D18: 876.48 | E18: =D18/$D$33 -> 0.56914286
B19: 39 | C19: 288 | D19: 893.32 | E19: =D19/$D$33 -> 0.58007792
B20: 40 | C20: 233 | D20: 868.79 | E20: =D20/$D$33 -> 0.56414935
B21: 41 | C21: 117 | D21: 888.87 | E21: =D21/$D$33 -> 0.57718831
... B25: 45 | C25: 15 | D25: 945.01 | E25: =D25/$D$33 -> 0.61364286
B26: 46 I VIŠE | C26: 14 | D26: 1058.58 | E26: =D26/$D$33 -> 0.68738961
B27: UKUPNO | C27: =SUM(C7:C26) -> 60695 | D27: 681 | E27: =D27/$D$33 -> 0.44220779
B28: 0 - 34 | C28: 56928 | D28: 668.93 | E28: =D28/$D$33 -> 0.43437013
B29: 35 - 39 | C29: 3264 | D29: 857.98 | E29: =D29/$D$33 -> 0.55712987
B30: 40 I VIŠE | C30: 503 | D30: 898.92 | E30: =D30/$D$33 -> 0.58371429
B31: Napomena: u broj korisnika mirovina nisu uključeni korisnici mirovina DVO, ZOHBDR i HVO.
B32: U tablici je prikazan ukupni staž korisnika mirovina, efektivni i beneficirani staž, bez dodanog i pridodanog staža.
B33: ='starosna mirovina BMU'!B33:C33 -> Prosječna mjesečna isplaćena netoplaća Republike Hrvatske za srpanj 2026. u eurima (EUR) (izvor: DZS) | D33: ='starosna mirovina BMU'!D33 -> 1540

Sheet PSM BMU
B2: KORISNICI PRIJEVREMENE STAROSNE MIROVINE KOJI SU PRAVO NA MIROVINU OSTVARILI PREMA ZAKONU O MIROVINSKOM OSIGURANJU - BEZ MEĐUNARODNIH UGOVORA
B5: ='starosna mirovina BMU'!B5 -> za kolovoz 2026. (isplata u rujnu 2026.)
B6: godine mirovinskog staža | C6: broj korisnika | D6: prosječni iznos netomirovine | E6: ='starosna mirovina BMU'!E6 -> udio u prosječnoj netoplaći za srpanj 2026.
B7: 30 | C7: 3229 | D7: 502.97022 | E7: =D7/$D$30 -> 0.32660404
B8: 31 | C8: 3546 | D8: 480.89 | E8: =D8/$D$30 -> 0.31226623
B9: 32 | C9: 5084 | D9: 521.13 | E9: =D9/$D$30 -> 0.3383961
B10: 33 | C10: 5796 | D10: 557.38 | E10: =D10/$D$30 -> 0.36193506
B11: 34 | C11: 5434 | D11: 581.7 | E11: =D11/$D$30 -> 0.37772727
B12: 35 | C12: 11826 | D12: 636.84 | E12: =D12/$D$30 -> 0.41353247
B13: 36 | C13: 9679 | D13: 647.85 | E13: =D13/$D$30 -> 0.42068182
B14: 37 | C14: 10249 | D14: 667.52 | E14: =D14/$D$30 -> 0.43345455
B15: 38 | C15: 9856 | D15: 678.65 | E15: =D15/$D$30 -> 0.44068182
B16: 39 | C16: 8130 | D16: 701.67 | E16: =D16/$D$30 -> 0.45562987
B17: 40 | C17: 5157 | D17: 723.86 | E17: =D17/$D$30 -> 0.47003896
B18: 41 | C18: 1600 | D18: 715.46 | E18: =D18/$D$30 -> 0.46458442
... B22: 45 | C22: 50 | D22: 809.55 | E22: =D22/$D$30 -> 0.52568182
B23: 46 I VIŠE | C23: 41 | D23: 852.27 | E23: =D23/$D$30 -> 0.55342208
B24: UKUPNO | C24: =SUM(C7:C23) -> 80662 | D24: 633.2 | E24: =D24/$D$30 -> 0.41116883
B25: 0 - 34 | C25: 23089 | D25: 535.77 | E25: =D25/$D$30 -> 0.3479026
B26: 35 - 39 | C26: 49740 | D26: 664.18 | E26: =D26/$D$30 -> 0.43128571
B27: 40 I VIŠE | C27: 7833 | D27: 723.62 | E27: =D27/$D$30 -> 0.46988312
B28: Napomena: u broj korisnika mirovina nisu uključeni korisnici mirovina DVO, ZOHBDR i HVO.
B29: U tablici je prikazan ukupni staž korisnika mirovina, efektivni i beneficirani staž, bez dodanog i pridodanog staža.
B30: ='starosna mirovina BMU'!B33:C33 -> Prosječna mjesečna isplaćena netoplaća Republike Hrvatske za srpanj 2026. u eurima (EUR) (izvor: DZS) | D30: ='starosna mirovina BMU'!D33 -> 1540

Sheet PSM +70
B2: KORISNICI PRIJEVREMENE STAROSNE MIROVINE bez smanjenja polaznog faktora KOJI SU PRAVO NA MIROVINU OSTVARILI PREMA ZAKONU O MIROVINSKOM OSIGURANJU članak 83. stavak 9.1) - BEZ MEĐUNARODNIH UGOVORA
B5: ='starosna mirovina BMU'!B5 -> za kolovoz 2026. (isplata u rujnu 2026.)
B6: godine mirovinskog staža | C6: broj korisnika | D6: prosječni iznos netomirovine | E6: ='starosna mirovina BMU'!E6 -> udio u prosječnoj netoplaći za srpanj 2026.
B7: do - 19 | C7: 15 | D7: 344.4 | E7: =D7/$D$35 -> 0.22363636
B8: 20 - 24 | C8: 20 | D8: 466.41 | E8: =D8/$D$35 -> 0.30286364
B9: 25 - 29 | C9: 24 | D9: 543.61 | E9: =D9/$D$35 -> 0.35299351
B10: 30 | C10: 16011 | D10: 630.07 | E10: =D10/$D$35 -> 0.40913636
B11: 31 | C11: 6347 | D11: 666.68 | E11: =D11/$D$35 -> 0.43290909
B12: 32 | C12: 5580 | D12: 695.09 | E12: =D12/$D$35 -> 0.45135714
B13: 33 | C13: 4674 | D13: 718.58 | E13: =D13/$D$35 -> 0.46661039
B14: 34 | C14: 3540 | D14: 737.38 | E14: =D14/$D$35 -> 0.47881818
B15: 35 | C15: 17123 | D15: 802.76 | E15: =D15/$D$35 -> 0.52127273
B16: 36 | C16: 9374 | D16: 815.08 | E16: =D16/$D$35 -> 0.52927273
B17: 37 | C17: 8552 | D17: 833.53 | E17: =D17/$D$35 -> 0.54125325
B18: 38 | C18: 7918 | D18: 849.88 | E18: =D18/$D$35 -> 0.55187013
B19: 39 | C19: 6930 | D19: 857.79 | E19: =D19/$D$35 -> 0.55700649
B20: 40 | C20: 6505 | D20: 869.49 | E20: =D20/$D$35 -> 0.5646039
B21: 41 | C21: 3339 | D21: 897.39 | E21: =D21/$D$35 -> 0.58272078
... B25: 45 | C25: 247 | D25: 1005.9 | E25: =D25/$D$35 -> 0.65318182
B26: 46 I VIŠE | C26: 175 | D26: 1053.5 | E26: =D26/$D$35 -> 0.68409091
B27: UKUPNO | C27: =SUM(C7:C26) -> 99671 | D27: 778.58 | E27: =D27/$D$35 -> 0.50557143
B28: 0 - 34 | C28: 36211 | D28: 668.16 | E28: =D28/$D$35 -> 0.43387013
B29: 35 - 39 | C29: 49897 | D29: 825.47 | E29: =D29/$D$35 -> 0.53601948
B30: 40 I VIŠE | C30: 13563 | D30: 900.91 | E30: =D30/$D$35 -> 0.58500649
B31: Napomena: u broj korisnika mirovina nisu uključeni korisnici mirovina DVO, ZOHBDR i HVO.
B32: U tablici je prikazan ukupni staž korisnika mirovina, efektivni i beneficirani staž, bez dodanog i pridodanog staža.
B33: 1) U broj korisnika mirovine uključeni su korisnici prijevremene starosne mirovine (99%), starosne i starosne mirovine za dugogodišnjeg osiguranika (1%).
B35: ='starosna mirovina BMU'!B33:C33 -> Prosječna mjesečna isplaćena netoplaća Republike Hrvatske za srpanj 2026. u eurima (EUR) (izvor: DZS) | D35: ='starosna mirovina BMU'!D33 -> 1540

Sheet PSM zbog stečaja BMU
B2: KORISNICI PRIJEVREMENE STAROSNE MIROVINE ZBOG STEČAJA POSLODAVCA KOJI SU PRAVO NA MIROVINU OSTVARILI PREMA ZAKONU O MIROVINSKOM OSIGURANJU - BEZ MEĐUNARODNIH UGOVORA
B5: ='starosna mirovina BMU'!B5 -> za kolovoz 2026. (isplata u rujnu 2026.)
B6: godine mirovinskog staža | C6: broj korisnika | D6: prosječni iznos netomirovine | E6: ='starosna mirovina BMU'!E6 -> udio u prosječnoj netoplaći za srpanj 2026.
B7: 31 | C7: 13 | D7: 568.52 | E7: =D7/$D$29 -> 0.36916883
B8: 32 | C8: 45 | D8: 564.95 | E8: =D8/$D$29 -> 0.36685065
B9: 33 | C9: 39 | D9: 585.24 | E9: =D9/$D$29 -> 0.38002597
B10: 34 | C10: 23 | D10: 600.46 | E10: =D10/$D$29 -> 0.38990909
B11: 35 | C11: 88 | D11: 696.24 | E11: =D11/$D$29 -> 0.4521039
B12: 36 | C12: 56 | D12: 686.83 | E12: =D12/$D$29 -> 0.44599351
B13: 37 | C13: 48 | D13: 700.5 | E13: =D13/$D$29 -> 0.45487013
B14: 38 | C14: 27 | D14: 750.14 | E14: =D14/$D$29 -> 0.4871039
B15: 39 | C15: 19 | D15: 758.98 | E15: =D15/$D$29 -> 0.49284416
B16: 40 | C16: 10 | D16: 816.52 | E16: =D16/$D$29 -> 0.53020779
B17: 41 | C17: 3 | D17: 850.95 | E17: =D17/$D$29 -> 0.55256494
B18: 42 | C18: 4 | D18: 844.47 | E18: =D18/$D$29 -> 0.54835714
... B21: 45 | C21: 0 | D21: 0 | E21: =D21/$D$29 -> 0
B22: 46 I VIŠE | C22: 0 | D22: 0 | E22: =D22/$D$29 -> 0
B23: UKUPNO | C23: =SUM(C7:C22) -> 377 | D23: 672.38 | E23: =D23/$D$29 -> 0.43661039
B24: 0 - 34 | C24: 120 | D24: 578.74 | E24: =D24/$D$29 -> 0.37580519
B25: 35 - 39 | C25: 238 | D25: 706.01 | E25: =D25/$D$29 -> 0.45844805
B26: 40 I VIŠE | C26: 19 | D26: 842.6 | E26: =D26/$D$29 -> 0.54714286
B27: Napomena: u broj korisnika mirovina nisu uključeni korisnici mirovina DVO, ZOHBDR i HVO.
B28: U tablici je prikazan ukupni staž korisnika mirovina, efektivni i beneficirani staž, bez dodanog i pridodanog staža.
B29: ='starosna mirovina BMU'!B33:C33 -> Prosječna mjesečna isplaćena netoplaća Republike Hrvatske za srpanj 2026. u eurima (EUR) (izvor: DZS) | D29: ='starosna mirovina BMU'!D33 -> 1540

Sheet sveukupno ST BMU
B2: KORISNICI SVEUKUPNO STAROSNE MIROVINE KOJI SU PRAVO NA MIROVINU OSTVARILI PREMA ZAKONU O MIROVINSKOM OSIGURANJU - BEZ MEĐUNARODNIH UGOVORA
B5: ='starosna mirovina BMU'!B5 -> za kolovoz 2026. (isplata u rujnu 2026.)
B6: godine mirovinskog staža | C6: broj korisnika | D6: prosječni iznos netomirovine | E6: ='starosna mirovina BMU'!E6 -> udio u prosječnoj netoplaći za srpanj 2026.
B7: do - 19 | C7: 80584 | D7: 401.93279 | E7: =D7/$D$33 -> 0.26099532
B8: 20 - 24 | C8: 60201 | D8: 501.05 | E8: =D8/$D$33 -> 0.32535714
B9: 25 - 29 | C9: 65161 | D9: 624.14 | E9: =D9/$D$33 -> 0.40528571
B10: 30 | C10: 39234 | D10: 678.74 | E10: =D10/$D$33 -> 0.44074026
B11: 31 | C11: 24577 | D11: 688.99 | E11: =D11/$D$33 -> 0.4473961
B12: 32 | C12: 24291 | D12: 695.53 | E12: =D12/$D$33 -> 0.45164286
B13: 33 | C13: 22515 | D13: 712.89 | E13: =D13/$D$33 -> 0.46291558
B14: 34 | C14: 18757 | D14: 734.7 | E14: =D14/$D$33 -> 0.47707792
B15: 35 | C15: 68355 | D15: 794.42 | E15: =D15/$D$33 -> 0.51585714
B16: 36 | C16: 33491 | D16: 795.73 | E16: =D16/$D$33 -> 0.51670779
B17: 37 | C17: 31858 | D17: 817.14 | E17: =D17/$D$33 -> 0.53061039
B18: 38 | C18: 30808 | D18: 848.16 | E18: =D18/$D$33 -> 0.55075325
B19: 39 | C19: 27933 | D19: 889.79 | E19: =D19/$D$33 -> 0.57778571
B20: 40 | C20: 37505 | D20: 955.59 | E20: =D20/$D$33 -> 0.62051299
B21: 41 | C21: 50603 | D21: 879.51 | E21: =D21/$D$33 -> 0.57111039
... B25: 45 | C25: 12645 | D25: 1044.67 | E25: =D25/$D$33 -> 0.67835714
B26: 46 I VIŠE | C26: 21692 | D26: 1179.03 | E26: =D26/$D$33 -> 0.7656039
B27: UKUPNO | C27: =SUM(C7:C26) -> 712519 | D27: 744.95 | E27: =D27/$D$33 -> 0.48373377
B28: 0 - 34 | C28: 335320 | D28: 577.1 | E28: =D28/$D$33 -> 0.37474026
B29: 35 - 39 | C29: 192445 | D29: 820.85 | E29: =D29/$D$33 -> 0.53301948
B30: 40 I VIŠE | C30: 184754 | D30: 970.53 | E30: =D30/$D$33 -> 0.63021429
B31: Napomena: u broj korisnika mirovina nisu uključeni korisnici mirovina DVO, ZOHBDR i HVO.
B32: U tablici je prikazan ukupni staž korisnika mirovina, efektivni i beneficirani staž, bez dodanog i pridodanog staža.
B33: ='starosna mirovina BMU'!B33:C33 -> Prosječna mjesečna isplaćena netoplaća Republike Hrvatske za srpanj 2026. u eurima (EUR) (izvor: DZS) | D33: ='starosna mirovina BMU'!D33 -> 1540

Sheet invalidska BMU
B2: KORISNICI INVALIDSKE MIROVINE KOJI SU PRAVO NA MIROVINU OSTVARILI PREMA ZAKONU O MIROVINSKOM OSIGURANJU - BEZ MEĐUNARODNIH UGOVORA
B5: ='starosna mirovina BMU'!B5 -> za kolovoz 2026. (isplata u rujnu 2026.)
B6: godine mirovinskog staža | C6: broj korisnika | D6: prosječni iznos netomirovine | E6: ='starosna mirovina BMU'!E6 -> udio u prosječnoj netoplaći za srpanj 2026.
B7: do - 19 | C7: 32156 | D7: 457.11459 | E7: =D7/$D$33 -> 0.29682765
B8: 20 - 24 | C8: 16429 | D8: 556.37 | E8: =D8/$D$33 -> 0.36127922
B9: 25 - 29 | C9: 16355 | D9: 620.01 | E9: =D9/$D$33 -> 0.4026039
B10: 30 | C10: 2783 | D10: 662.54 | E10: =D10/$D$33 -> 0.43022078
B11: 31 | C11: 2320 | D11: 668.37 | E11: =D11/$D$33 -> 0.43400649
B12: 32 | C12: 2003 | D12: 686.1 | E12: =D12/$D$33 -> 0.44551948
B13: 33 | C13: 1827 | D13: 702.5 | E13: =D13/$D$33 -> 0.45616883
B14: 34 | C14: 1507 | D14: 716.86 | E14: =D14/$D$33 -> 0.46549351
B15: 35 | C15: 1238 | D15: 720.52 | E15: =D15/$D$33 -> 0.46787013
B16: 36 | C16: 1014 | D16: 735.5 | E16: =D16/$D$33 -> 0.4775974
B17: 37 | C17: 715 | D17: 749.47 | E17: =D17/$D$33 -> 0.48666883
B18: 38 | C18: 573 | D18: 754.66 | E18: =D18/$D$33 -> 0.49003896
B19: 39 | C19: 400 | D19: 770.22 | E19: =D19/$D$33 -> 0.50014286
B20: 40 | C20: 243 | D20: 783.65 | E20: =D20/$D$33 -> 0.50886364
B21: 41 | C21: 142 | D21: 789.42 | E21: =D21/$D$33 -> 0.51261039
... B25: 45 | C25: 21 | D25: 897.28 | E25: =D25/$D$33 -> 0.58264935
B26: 46 I VIŠE | C26: 29 | D26: 968.68 | E26: =D26/$D$33 -> 0.62901299
B27: UKUPNO | C27: =SUM(C7:C26) -> 79931 | D27: 557.09 | E27: =D27/$D$33 -> 0.36174675
B28: 0 - 34 | C28: 75380 | D28: 545.4 | E28: =D28/$D$33 -> 0.35415584
B29: 35 - 39 | C29: 3940 | D29: 739.64 | E29: =D29/$D$33 -> 0.48028571
B30: 40 I VIŠE | C30: 611 | D30: 821.67 | E30: =D30/$D$33 -> 0.53355195
B31: Napomena: u broj korisnika mirovina nisu uključeni korisnici mirovina DVO, ZOHBDR i HVO.
B32: U tablici je prikazan ukupni staž korisnika mirovina, efektivni i beneficirani staž, bez dodanog i pridodanog staža.
B33: ='starosna mirovina BMU'!B33:C33 -> Prosječna mjesečna isplaćena netoplaća Republike Hrvatske za srpanj 2026. u eurima (EUR) (izvor: DZS) | D33: ='starosna mirovina BMU'!D33 -> 1540

Sheet obiteljska BMU
B2: KORISNICI OBITELJSKE MIROVINE KOJI SU PRAVO NA MIROVINU OSTVARILI PREMA ZAKONU O MIROVINSKOM OSIGURANJU - BEZ MEĐUNARODNIH UGOVORA
B5: ='starosna mirovina BMU'!B5 -> za kolovoz 2026. (isplata u rujnu 2026.)
B6: godine ukupnog mirovinskog staža | C6: broj korisnika | D6: prosječni iznos netomirovine | E6: ='starosna mirovina BMU'!E6 -> udio u prosječnoj netoplaći za srpanj 2026.
B7: do - 19 | C7: 39235 | D7: 379.41372 | E7: =D7/$D$33 -> 0.24637255
B8: 20 - 24 | C8: 17824 | D8: 440.06 | E8: =D8/$D$33 -> 0.28575325
B9: 25 - 29 | C9: 19213 | D9: 535.23 | E9: =D9/$D$33 -> 0.34755195
B10: 30 | C10: 4748 | D10: 582.45 | E10: =D10/$D$33 -> 0.37821429
B11: 31 | C11: 4293 | D11: 609.5 | E11: =D11/$D$33 -> 0.39577922
B12: 32 | C12: 4198 | D12: 613.87 | E12: =D12/$D$33 -> 0.39861688
B13: 33 | C13: 4073 | D13: 636.58 | E13: =D13/$D$33 -> 0.41336364
B14: 34 | C14: 3668 | D14: 659.68 | E14: =D14/$D$33 -> 0.42836364
B15: 35 | C15: 11834 | D15: 639.65 | E15: =D15/$D$33 -> 0.41535714
B16: 36 | C16: 5604 | D16: 690.9 | E16: =D16/$D$33 -> 0.44863636
B17: 37 | C17: 4676 | D17: 721.48 | E17: =D17/$D$33 -> 0.46849351
B18: 38 | C18: 4188 | D18: 758.83 | E18: =D18/$D$33 -> 0.49274675
B19: 39 | C19: 3267 | D19: 781.82 | E19: =D19/$D$33 -> 0.50767532
B20: 40 | C20: 13129 | D20: 774.66 | E20: =D20/$D$33 -> 0.50302597
B21: 41 | C21: 3437 | D21: 809.98 | E21: =D21/$D$33 -> 0.52596104
... B25: 45 | C25: 867 | D25: 949.41 | E25: =D25/$D$33 -> 0.6165
B26: 46 I VIŠE | C26: 1800 | D26: 1070.33 | E26: =D26/$D$33 -> 0.69501948
B27: UKUPNO | C27: =SUM(C7:C26) -> 150873 | D27: 573.02 | E27: =D27/$D$33 -> 0.37209091
B28: 0 - 34 | C28: 97252 | D28: 472.84 | E28: =D28/$D$33 -> 0.30703896
B29: 35 - 39 | C29: 29569 | D29: 694.89 | E29: =D29/$D$33 -> 0.45122727
B30: 40 I VIŠE | C30: 24052 | D30: 828.24 | E30: =D30/$D$33 -> 0.53781818
B31: Napomena: u broj korisnika mirovina nisu uključeni korisnici mirovina DVO, ZOHBDR i HVO. U tablici je prikazan staž korisnika od kojeg je određeno pravo na obiteljsku mirovinu.
B33: ='starosna mirovina BMU'!B33:C33 -> Prosječna mjesečna isplaćena netoplaća Republike Hrvatske za srpanj 2026. u eurima (EUR) (izvor: DZS) | D33: ='starosna mirovina BMU'!D33 -> 1540
